BEGIN:VCALENDAR
VERSION:2.0
PRODID:-//Lewisham Safer Neighbourhood Board - ECPv6.13.2//NONSGML v1.0//EN
CALSCALE:GREGORIAN
METHOD:PUBLISH
X-WR-CALNAME:Lewisham Safer Neighbourhood Board
X-ORIGINAL-URL:https://snblewisham.org.uk
X-WR-CALDESC:Events for Lewisham Safer Neighbourhood Board
REFRESH-INTERVAL;VALUE=DURATION:PT1H
X-Robots-Tag:noindex
X-PUBLISHED-TTL:PT1H
BEGIN:VTIMEZONE
TZID:Europe/London
BEGIN:DAYLIGHT
TZOFFSETFROM:+0000
TZOFFSETTO:+0100
TZNAME:BST
DTSTART:20210328T010000
END:DAYLIGHT
BEGIN:STANDARD
TZOFFSETFROM:+0100
TZOFFSETTO:+0000
TZNAME:GMT
DTSTART:20211031T010000
END:STANDARD
BEGIN:DAYLIGHT
TZOFFSETFROM:+0000
TZOFFSETTO:+0100
TZNAME:BST
DTSTART:20220327T010000
END:DAYLIGHT
BEGIN:STANDARD
TZOFFSETFROM:+0100
TZOFFSETTO:+0000
TZNAME:GMT
DTSTART:20221030T010000
END:STANDARD
BEGIN:DAYLIGHT
TZOFFSETFROM:+0000
TZOFFSETTO:+0100
TZNAME:BST
DTSTART:20230326T010000
END:DAYLIGHT
BEGIN:STANDARD
TZOFFSETFROM:+0100
TZOFFSETTO:+0000
TZNAME:GMT
DTSTART:20231029T010000
END:STANDARD
BEGIN:DAYLIGHT
TZOFFSETFROM:+0000
TZOFFSETTO:+0100
TZNAME:BST
DTSTART:20240331T010000
END:DAYLIGHT
BEGIN:STANDARD
TZOFFSETFROM:+0100
TZOFFSETTO:+0000
TZNAME:GMT
DTSTART:20241027T010000
END:STANDARD
BEGIN:DAYLIGHT
TZOFFSETFROM:+0000
TZOFFSETTO:+0100
TZNAME:BST
DTSTART:20250330T010000
END:DAYLIGHT
BEGIN:STANDARD
TZOFFSETFROM:+0100
TZOFFSETTO:+0000
TZNAME:GMT
DTSTART:20251026T010000
END:STANDARD
BEGIN:DAYLIGHT
TZOFFSETFROM:+0000
TZOFFSETTO:+0100
TZNAME:BST
DTSTART:20260329T010000
END:DAYLIGHT
BEGIN:STANDARD
TZOFFSETFROM:+0100
TZOFFSETTO:+0000
TZNAME:GMT
DTSTART:20261025T010000
END:STANDARD
END:VTIMEZONE
BEGIN:VEVENT
DTSTART;TZID=Europe/London:20260324T190000
DTEND;TZID=Europe/London:20260324T190000
DTSTAMP:20260421T055806
CREATED:20220801T154228Z
LAST-MODIFIED:20260412T163953Z
UID:2124-1774378800-1774378800@snblewisham.org.uk
SUMMARY:SNB Public Meeting Tuesday 24th March 2026
DESCRIPTION:The next Lewisham Safer Neighbourhood Board is scheduled to take place on Tuesday 24th March 2026\, 7pm to 9pm\, at the Civic Suite in Catford. This will be a face-to-face meeting with the option to join via Microsoft Teams. \nThis is an invitation to the Lewisham Safer Neighbourhood Board Public meeting with documents attached taking place on 9th December 2025\,  7pm – 9pm at Lewisham Council’s Civic Suite.  There is also the option to join via MS Teams.  Link is below.  \n  \n________________________________________________________________________________ \nMicrosoft Teams Need help? \nJoin the meeting now \nMeeting ID: 373 170 034 843 \nPasscode: nT6XS9eZ \n\n\n\nAgenda to follow. \nTo view minutes click link- \nTo DOWNLOAD  access minutes of above meeting please click below link \n#SNB Public Meeting Minutes 24th March 26
URL:https://snblewisham.org.uk/event/snb-public-meeting-tuesday-24th-march-2026/
END:VEVENT
BEGIN:VEVENT
DTSTART;TZID=Europe/London:20260220T123000
DTEND;TZID=Europe/London:20260220T153000
DTSTAMP:20260421T055806
CREATED:20260303T212616Z
LAST-MODIFIED:20260303T212616Z
UID:3061-1771590600-1771601400@snblewisham.org.uk
SUMMARY:VAWG EVENT: FRI 20 FEB\, 12.30 - 15.30\, CIVIC SUITE
DESCRIPTION:Violence Against Women -Questions and answers discussion
URL:https://snblewisham.org.uk/event/vawg-event-fri-20-feb-12-30-15-30-civic-suite/
END:VEVENT
BEGIN:VEVENT
DTSTART;TZID=Europe/London:20220413T080000
DTEND;TZID=Europe/London:20220413T170000
DTSTAMP:20260421T055806
CREATED:20220413T103005Z
LAST-MODIFIED:20220413T103040Z
UID:2028-1649836800-1649869200@snblewisham.org.uk
SUMMARY:StopWatch Rights and Wellbeing (RAW) 2022
DESCRIPTION:Rights And Wellbeing (RAW)\, is Stopwatch’s pioneering project established to help impacted communities address the trauma arising from stop and search encounters. The Rights and Wellbeing RAW summit heralds the launch of an exciting project aimed at providing resources\, group workshops and individual support to equip individuals with rights education to reduce the harm of police encounters. \nRAW will also address the broader impacts of stop and search\, providing therapeutic support to help people process and deal with the impacts of stop and search and the after-effects. \nStopWatch are running free online courses that can be accessed by clicking the link below. \nhttps://www.eventbrite.co.uk/cc/rights-and-wellbeing-raw-2022-167469 \nFurther information can be found on their website. The link is below. \nhttps://www.stop-watch.org/
URL:https://snblewisham.org.uk/event/stopwatch-rights-and-wellbeing-raw-2022/
END:VEVENT
BEGIN:VEVENT
DTSTART;TZID=Europe/London:20211207T190000
DTEND;TZID=Europe/London:20211207T210000
DTSTAMP:20260421T055806
CREATED:20211203T154236Z
LAST-MODIFIED:20211203T154236Z
UID:1975-1638903600-1638910800@snblewisham.org.uk
SUMMARY:Public Meeting
DESCRIPTION:Please click here for the Teams Meeting Link.
URL:https://snblewisham.org.uk/event/public-meeting/
LOCATION:Online
END:VEVENT
END:VCALENDAR